BEGIN:VCALENDAR
VERSION:2.0
PRODID:-//Neighborhood Council Valley Village - ECPv6.15.20//NONSGML v1.0//EN
CALSCALE:GREGORIAN
METHOD:PUBLISH
X-WR-CALNAME:Neighborhood Council Valley Village
X-ORIGINAL-URL:https://www.myvalleyvillage.com
X-WR-CALDESC:Events for Neighborhood Council Valley Village
REFRESH-INTERVAL;VALUE=DURATION:PT1H
X-Robots-Tag:noindex
X-PUBLISHED-TTL:PT1H
BEGIN:VTIMEZONE
TZID:America/Los_Angeles
BEGIN:DAYLIGHT
TZOFFSETFROM:-0800
TZOFFSETTO:-0700
TZNAME:PDT
DTSTART:20240310T100000
END:DAYLIGHT
BEGIN:STANDARD
TZOFFSETFROM:-0700
TZOFFSETTO:-0800
TZNAME:PST
DTSTART:20241103T090000
END:STANDARD
BEGIN:DAYLIGHT
TZOFFSETFROM:-0800
TZOFFSETTO:-0700
TZNAME:PDT
DTSTART:20250309T100000
END:DAYLIGHT
BEGIN:STANDARD
TZOFFSETFROM:-0700
TZOFFSETTO:-0800
TZNAME:PST
DTSTART:20251102T090000
END:STANDARD
BEGIN:DAYLIGHT
TZOFFSETFROM:-0800
TZOFFSETTO:-0700
TZNAME:PDT
DTSTART:20260308T100000
END:DAYLIGHT
BEGIN:STANDARD
TZOFFSETFROM:-0700
TZOFFSETTO:-0800
TZNAME:PST
DTSTART:20261101T090000
END:STANDARD
BEGIN:DAYLIGHT
TZOFFSETFROM:-0800
TZOFFSETTO:-0700
TZNAME:PDT
DTSTART:20270314T100000
END:DAYLIGHT
BEGIN:STANDARD
TZOFFSETFROM:-0700
TZOFFSETTO:-0800
TZNAME:PST
DTSTART:20271107T090000
END:STANDARD
END:VTIMEZONE
BEGIN:VEVENT
DTSTART;TZID=America/Los_Angeles:20260128T203000
DTEND;TZID=America/Los_Angeles:20260128T210000
DTSTAMP:20260423T162122
CREATED:20260127T182444Z
LAST-MODIFIED:20260127T182444Z
UID:11168-1769632200-1769634000@www.myvalleyvillage.com
SUMMARY:Special Meeting
DESCRIPTION:
URL:https://www.myvalleyvillage.com/event/special-meeting-17/
LOCATION:Faith Presbyterian Church Social Hall\, 5000 Colfax Avenue\, Valley Village\, CA\, 91601
CATEGORIES:board,meetings
GEO:34.1617547;-118.387088
X-APPLE-STRUCTURED-LOCATION;VALUE=URI;X-ADDRESS=Faith Presbyterian Church Social Hall 5000 Colfax Avenue Valley Village CA 91601;X-APPLE-RADIUS=500;X-TITLE=5000 Colfax Avenue:geo:-118.387088,34.1617547
END:VEVENT
BEGIN:VEVENT
DTSTART;TZID=America/Los_Angeles:20260128T190000
DTEND;TZID=America/Los_Angeles:20260128T210000
DTSTAMP:20260423T162122
CREATED:20251120T234819Z
LAST-MODIFIED:20260324T203854Z
UID:11035-1769626800-1769634000@www.myvalleyvillage.com
SUMMARY:Board Meeting
DESCRIPTION:The next NCVV Meeting of the Board of Directors and Student Committee is Wednesday\, January 28\, 7pm in person at the Faith Presbyterian Church Social Hall\, 5000 Colfax. \nOn our agenda: \n\nInput for the Charter Reform Commission\nCoffee with a Cop\n\nImmediately after this meeting\, there will be a special meeting to handle an additional administrative item. \nNCVV AGENDA JANUARY 2026 SPECIAL MEETING OF THE BOARD
URL:https://www.myvalleyvillage.com/event/board-meeting-15/
LOCATION:Faith Presbyterian Church Social Hall\, 5000 Colfax Avenue\, Valley Village\, CA\, 91601
CATEGORIES:board,meetings
GEO:34.1617547;-118.387088
X-APPLE-STRUCTURED-LOCATION;VALUE=URI;X-ADDRESS=Faith Presbyterian Church Social Hall 5000 Colfax Avenue Valley Village CA 91601;X-APPLE-RADIUS=500;X-TITLE=5000 Colfax Avenue:geo:-118.387088,34.1617547
END:VEVENT
BEGIN:VEVENT
DTSTART;TZID=America/Los_Angeles:20260115T191500
DTEND;TZID=America/Los_Angeles:20260115T203000
DTSTAMP:20260423T162122
CREATED:20260112T222242Z
LAST-MODIFIED:20260112T222242Z
UID:11136-1768504500-1768509000@www.myvalleyvillage.com
SUMMARY:Special Planning and Land Use Committee Meeting
DESCRIPTION:Join us for our NCVV Planning & Land Use Committee Special Meeting January 15\, 7:15pm as we discuss city charter reform. \nZoom Meeting – Participate Online or by Telephone\nParticipate online: Join the meeting at https://us02web.zoom.us/j/82620257242\nParticipate by phone: (833) 548 0282 then enter Meeting ID: 82620257242 and press #
URL:https://www.myvalleyvillage.com/event/special-planning-and-land-use-committee-meeting-2/
CATEGORIES:meetings,Planning and Land Use
END:VEVENT
BEGIN:VEVENT
DTSTART;TZID=America/Los_Angeles:20260114T191500
DTEND;TZID=America/Los_Angeles:20260114T200000
DTSTAMP:20260423T162122
CREATED:20260112T221856Z
LAST-MODIFIED:20260112T221856Z
UID:11132-1768418100-1768420800@www.myvalleyvillage.com
SUMMARY:Planning and Land Use Committee Meeting-Cancelled
DESCRIPTION:
URL:https://www.myvalleyvillage.com/event/planning-and-land-use-committee-meeting-cancelled-4/
CATEGORIES:meetings,Planning and Land Use
END:VEVENT
BEGIN:VEVENT
DTSTART;TZID=America/Los_Angeles:20260113T110000
DTEND;TZID=America/Los_Angeles:20260113T120000
DTSTAMP:20260423T162122
CREATED:20260109T194207Z
LAST-MODIFIED:20260109T194207Z
UID:11122-1768302000-1768305600@www.myvalleyvillage.com
SUMMARY:City Services Committee Meeting
DESCRIPTION:Zoom Meeting – Participate Online or by Telephone\nParticipate online: Join the meeting at: https://us02web.zoom.us/j/89384599499\nMeeting ID: 893 8459 9499\nParticipate by phone: (888) 475-4499 then enter Webinar ID: 89384599499 and press # \n 
URL:https://www.myvalleyvillage.com/event/city-services-committee-meeting-40/
CATEGORIES:cityservices,meetings
END:VEVENT
BEGIN:VEVENT
DTSTART;TZID=America/Los_Angeles:20251222T190000
DTEND;TZID=America/Los_Angeles:20251222T193000
DTSTAMP:20260423T162122
CREATED:20251222T190320Z
LAST-MODIFIED:20251222T190320Z
UID:11103-1766430000-1766431800@www.myvalleyvillage.com
SUMMARY:Special Meeting
DESCRIPTION:Neighborhood Council Valley Village will hold a special meeting on Monday\, December 22\, 7pm online. \nZoom Meeting – Participate Online or by Telephone\nParticipate online: join the meeting at https://us02web.zoom.us/j/86492085294 \n 
URL:https://www.myvalleyvillage.com/event/special-meeting-16/
CATEGORIES:board,meetings
END:VEVENT
BEGIN:VEVENT
DTSTART;TZID=America/Los_Angeles:20251217T190000
DTEND;TZID=America/Los_Angeles:20251217T210000
DTSTAMP:20260423T162122
CREATED:20241119T173837Z
LAST-MODIFIED:20251213T022805Z
UID:10266-1765998000-1766005200@www.myvalleyvillage.com
SUMMARY:Board Meeting-Cancelled
DESCRIPTION:
URL:https://www.myvalleyvillage.com/event/board-meeting-14/
CATEGORIES:board,meetings
END:VEVENT
BEGIN:VEVENT
DTSTART;TZID=America/Los_Angeles:20251210T191500
DTEND;TZID=America/Los_Angeles:20251210T210000
DTSTAMP:20260423T162122
CREATED:20250714T222742Z
LAST-MODIFIED:20251111T213417Z
UID:10727-1765394100-1765400400@www.myvalleyvillage.com
SUMMARY:Planning and Land Use Committee Meeting
DESCRIPTION:Meets the 2nd Wednesday
URL:https://www.myvalleyvillage.com/event/planning-and-land-use-committee-meeting-33-2025-12-10/2025-12-10/
CATEGORIES:meetings,Planning and Land Use
END:VEVENT
BEGIN:VEVENT
DTSTART;TZID=America/Los_Angeles:20251209T110000
DTEND;TZID=America/Los_Angeles:20251209T120000
DTSTAMP:20260423T162122
CREATED:20250714T222601Z
LAST-MODIFIED:20251107T020016Z
UID:10721-1765278000-1765281600@www.myvalleyvillage.com
SUMMARY:City Services Committee
DESCRIPTION:
URL:https://www.myvalleyvillage.com/event/city-services-committee-12-2025-12-09/2025-12-09/
CATEGORIES:cityservices,meetings
END:VEVENT
BEGIN:VEVENT
DTSTART;TZID=America/Los_Angeles:20251119T190000
DTEND;TZID=America/Los_Angeles:20251119T210000
DTSTAMP:20260423T162122
CREATED:20241119T173807Z
LAST-MODIFIED:20251119T015155Z
UID:10264-1763578800-1763586000@www.myvalleyvillage.com
SUMMARY:Board Meeting
DESCRIPTION:Join us for the next special meeting of the Neighborhood Council Valley Village Board of Directors on Wednesday\, November 19\, 7pm online. \nhttps://us02web.zoom.us/j/86492085294\nParticipate by phone: (888) 475-4499 then enter Webinar ID: 864 9208 5294 and press #
URL:https://www.myvalleyvillage.com/event/board-meeting-13/
CATEGORIES:board,meetings
END:VEVENT
BEGIN:VEVENT
DTSTART;TZID=America/Los_Angeles:20251112T191500
DTEND;TZID=America/Los_Angeles:20251112T210000
DTSTAMP:20260423T162122
CREATED:20250714T222742Z
LAST-MODIFIED:20251111T213452Z
UID:10726-1762974900-1762981200@www.myvalleyvillage.com
SUMMARY:Planning and Land Use Committee Meeting-Cancelled
DESCRIPTION:Meets the 2nd Wednesday
URL:https://www.myvalleyvillage.com/event/planning-and-land-use-committee-meeting-33-2025-11-12/
CATEGORIES:meetings,Planning and Land Use
END:VEVENT
BEGIN:VEVENT
DTSTART;TZID=America/Los_Angeles:20251111T110000
DTEND;TZID=America/Los_Angeles:20251111T120000
DTSTAMP:20260423T162122
CREATED:20250714T222601Z
LAST-MODIFIED:20251107T020127Z
UID:10720-1762858800-1762862400@www.myvalleyvillage.com
SUMMARY:City Services Committee
DESCRIPTION:Join online: https://us02web.zoom.us/j/89384599499\nMeeting ID: 893 8459 9499\nParticipate by phone: (888) 475-4499 then enter Webinar ID: 89384599499 and press #
URL:https://www.myvalleyvillage.com/event/city-services-committee-12-2025-11-11/
CATEGORIES:cityservices,meetings
END:VEVENT
BEGIN:VEVENT
DTSTART;TZID=America/Los_Angeles:20251022T190000
DTEND;TZID=America/Los_Angeles:20251022T210000
DTSTAMP:20260423T162122
CREATED:20241119T173734Z
LAST-MODIFIED:20251209T215549Z
UID:10262-1761159600-1761166800@www.myvalleyvillage.com
SUMMARY:Board Meeting
DESCRIPTION:Join us for the next NCVV Meeting on Wednesday\, October 22\, 7pm. We will meet In Person at the Faith Presbyterian Church Social Hall\, 5000 Colfax Ave.
URL:https://www.myvalleyvillage.com/event/board-meeting-12-2025-10-22/
CATEGORIES:board,meetings
END:VEVENT
BEGIN:VEVENT
DTSTART;TZID=America/Los_Angeles:20251014T140000
DTEND;TZID=America/Los_Angeles:20251014T150000
DTSTAMP:20260423T162122
CREATED:20250714T222601Z
LAST-MODIFIED:20251011T000305Z
UID:10719-1760450400-1760454000@www.myvalleyvillage.com
SUMMARY:City Services Committee
DESCRIPTION:Join us for the NCVV City Services Committee Meeting on Tuesday\, October 14\, 2pm online. \nZoom Meeting – Participate Online or by Telephone\nParticipate online: Join the meeting at: https://us02web.zoom.us/j/89384599499\nMeeting ID: 893 8459 9499\nParticipate by phone: (888) 475-4499 then enter Webinar ID: 89384599499 and press # \n 
URL:https://www.myvalleyvillage.com/event/city-services-committee-12-2025-10-14/
CATEGORIES:cityservices,meetings
END:VEVENT
BEGIN:VEVENT
DTSTART;TZID=America/Los_Angeles:20251008T191500
DTEND;TZID=America/Los_Angeles:20251008T210000
DTSTAMP:20260423T162122
CREATED:20250714T222742Z
LAST-MODIFIED:20251007T172150Z
UID:10725-1759950900-1759957200@www.myvalleyvillage.com
SUMMARY:Special Planning and Land Use Committee Meeting
DESCRIPTION:The NCVV Planning & Land Use Committee will hold a special meeting October 8\, 7:15pm online. \nZoom Meeting – Participate Online or by Telephone\nParticipate online: Join the meeting at https://us02web.zoom.us/j/82620257242\nParticipate by phone: (833) 548 0282 then enter Meeting ID: 82620257242 and press #
URL:https://www.myvalleyvillage.com/event/planning-and-land-use-committee-meeting-33-2025-10-08/
CATEGORIES:meetings,Planning and Land Use
END:VEVENT
BEGIN:VEVENT
DTSTART;TZID=America/Los_Angeles:20250917T190000
DTEND;TZID=America/Los_Angeles:20250917T210000
DTSTAMP:20260423T162122
CREATED:20241119T173734Z
LAST-MODIFIED:20251209T215920Z
UID:10261-1758135600-1758142800@www.myvalleyvillage.com
SUMMARY:Board Meeting
DESCRIPTION:Join us for a Special Meeting of the Neighborhood Council Valley Village Board of Directors on September 17\, 7pm. \nPlease note\, we are meeting earlier this month due to Rosh Hashanah. \nThe meeting will be held online: \nAt https://us02web.zoom.us/j/86492085294\nParticipate by phone: (888) 475-4499 then enter Webinar ID: 864 9208 5294 and press # \n 
URL:https://www.myvalleyvillage.com/event/board-meeting-12-2025-09-17/
CATEGORIES:board,meetings
END:VEVENT
BEGIN:VEVENT
DTSTART;TZID=America/Los_Angeles:20250910T191500
DTEND;TZID=America/Los_Angeles:20250910T210000
DTSTAMP:20260423T162122
CREATED:20250714T222742Z
LAST-MODIFIED:20250909T011411Z
UID:10724-1757531700-1757538000@www.myvalleyvillage.com
SUMMARY:Planning and Land Use Committee Meeting
DESCRIPTION:Meets the 2nd Wednesday
URL:https://www.myvalleyvillage.com/event/planning-and-land-use-committee-meeting-33-2025-09-10/
CATEGORIES:meetings,Planning and Land Use
END:VEVENT
BEGIN:VEVENT
DTSTART;TZID=America/Los_Angeles:20250909T110000
DTEND;TZID=America/Los_Angeles:20250909T120000
DTSTAMP:20260423T162122
CREATED:20250714T222601Z
LAST-MODIFIED:20250904T231713Z
UID:10718-1757415600-1757419200@www.myvalleyvillage.com
SUMMARY:City Services Committee
DESCRIPTION:Participate online: Join the meeting at: https://us02web.zoom.us/j/89384599499\nMeeting ID: 893 8459 9499\nParticipate by phone: (888) 475-4499 then enter Webinar ID: 89384599499 and press #
URL:https://www.myvalleyvillage.com/event/city-services-committee-12-2025-09-09/
CATEGORIES:cityservices,meetings
END:VEVENT
BEGIN:VEVENT
DTSTART;TZID=America/Los_Angeles:20250827T190000
DTEND;TZID=America/Los_Angeles:20250827T210000
DTSTAMP:20260423T162122
CREATED:20241119T173734Z
LAST-MODIFIED:20251209T215836Z
UID:10260-1756321200-1756328400@www.myvalleyvillage.com
SUMMARY:Board Meeting
DESCRIPTION:Join us for the next NCVV Board of Directors Meeting on Wednesday\, August 27\, 7pm online \njoin the meeting at https://us02web.zoom.us/j/86492085294\nParticipate by phone: (888) 475-4499 then enter Webinar ID: 864 9208 5294 and press # \nMeeting documents: \n\nNCVV AGENDA AUGUST 2025 MEETING OF THE BOARD\nNCVV July 2025 MER\nNeighborhood Council of Valley Village FY2026 Rollover
URL:https://www.myvalleyvillage.com/event/board-meeting-12-2025-08-27/
CATEGORIES:board,meetings
END:VEVENT
BEGIN:VEVENT
DTSTART;TZID=America/Los_Angeles:20250820T191500
DTEND;TZID=America/Los_Angeles:20250820T203000
DTSTAMP:20260423T162122
CREATED:20250815T234013Z
LAST-MODIFIED:20250815T234013Z
UID:10843-1755717300-1755721800@www.myvalleyvillage.com
SUMMARY:Planning and Land Use Committee Special Meeting
DESCRIPTION:Join us for the next NCVV Planning and Land Use Committee Special Meeting August 20\, 7:15pm online. \nOn our agenda: \n\n4714-4718 Colfax\n11944\, 11950 Riverside\n\nZoom Meeting – Participate Online or by Telephone\nParticipate online: Join the meeting at https://us02web.zoom.us/j/85659479460\nParticipate by phone: (669) 444-9171 then enter Meeting ID: 82620257242 and press #
URL:https://www.myvalleyvillage.com/event/planning-and-land-use-committee-special-meeting/
CATEGORIES:meetings,Planning and Land Use
END:VEVENT
BEGIN:VEVENT
DTSTART;TZID=America/Los_Angeles:20250813T191500
DTEND;TZID=America/Los_Angeles:20250813T210000
DTSTAMP:20260423T162122
CREATED:20250714T222742Z
LAST-MODIFIED:20250811T173815Z
UID:10723-1755112500-1755118800@www.myvalleyvillage.com
SUMMARY:Planning and Land Use Committee Meeting
DESCRIPTION:Join us for the NCVV Planning and Land Use Committee Meeting on Wednesday\, August 13\, 7:15pm online. \nhttps://us02web.zoom.us/j/82620257242 \nParticipate by phone: (833) 548 0282 then enter Meeting ID: 82620257242 and press #
URL:https://www.myvalleyvillage.com/event/planning-and-land-use-committee-meeting-33/
CATEGORIES:meetings,Planning and Land Use
END:VEVENT
BEGIN:VEVENT
DTSTART;TZID=America/Los_Angeles:20250812T110000
DTEND;TZID=America/Los_Angeles:20250812T120000
DTSTAMP:20260423T162122
CREATED:20250714T222601Z
LAST-MODIFIED:20250809T005141Z
UID:10717-1754996400-1755000000@www.myvalleyvillage.com
SUMMARY:City Services Committee
DESCRIPTION:
URL:https://www.myvalleyvillage.com/event/city-services-committee-12/
CATEGORIES:cityservices,meetings
END:VEVENT
BEGIN:VEVENT
DTSTART;TZID=America/Los_Angeles:20250725T110000
DTEND;TZID=America/Los_Angeles:20250725T130000
DTSTAMP:20260423T162122
CREATED:20250725T030618Z
LAST-MODIFIED:20250725T030947Z
UID:10772-1753441200-1753448400@www.myvalleyvillage.com
SUMMARY:SPECIAL MEETING NCVV BOARD OF DIRECTORS
DESCRIPTION:July 25\, 2025 –11:00 AM \nZoom Meeting Participate Online or by Telephone \nParticipate online: join the meeting at https://uclahs.zoom.us/j/91433066962 \nParticipate by phone: 1-669-444-9171 then enter Webinar ID: 91433066962 and press #
URL:https://www.myvalleyvillage.com/event/special-meeting-ncvv-board-of-directors/
CATEGORIES:board,meetings
END:VEVENT
BEGIN:VEVENT
DTSTART;TZID=America/Los_Angeles:20250723T203000
DTEND;TZID=America/Los_Angeles:20250723T213000
DTSTAMP:20260423T162122
CREATED:20250722T032219Z
LAST-MODIFIED:20251209T215749Z
UID:10758-1753302600-1753306200@www.myvalleyvillage.com
SUMMARY:Special Meeting of the Board of Directors
DESCRIPTION:NEIGHBORHOOD COUNCIL VALLEY VILLAGE \nSpecial Meeting of the Board of Directors \nIN PERSON MEETING \nJuly 23\, 2025 \n8:30 PM \nSocial Hall \nFaith Presbyterian Church \n5000 Colfax Avenue\, Valley Village
URL:https://www.myvalleyvillage.com/event/special-meeting-of-the-board-of-directors/
LOCATION:Faith Presbyterian Church\, 5000 Colfax\, Valley Village
CATEGORIES:board,meetings
GEO:34.1616807;-118.3874832
X-APPLE-STRUCTURED-LOCATION;VALUE=URI;X-ADDRESS=Faith Presbyterian Church 5000 Colfax Valley Village;X-APPLE-RADIUS=500;X-TITLE=5000 Colfax:geo:-118.3874832,34.1616807
END:VEVENT
BEGIN:VEVENT
DTSTART;TZID=America/Los_Angeles:20250723T190000
DTEND;TZID=America/Los_Angeles:20250723T210000
DTSTAMP:20260423T162122
CREATED:20241119T173734Z
LAST-MODIFIED:20251209T215723Z
UID:10259-1753297200-1753304400@www.myvalleyvillage.com
SUMMARY:Board Meeting
DESCRIPTION:Join us for the next Neighborhood Council Valley Village Board of Directors Meeting\, Wednesday\, July 23\, 7pm at Faith Presbyterian Church\, 5000 Colfax. We will swear in our newly elected board members and choose our executive team.
URL:https://www.myvalleyvillage.com/event/board-meeting-12-2025-07-23/
CATEGORIES:board,meetings
END:VEVENT
BEGIN:VEVENT
DTSTART;TZID=America/Los_Angeles:20250722T110000
DTEND;TZID=America/Los_Angeles:20250722T120000
DTSTAMP:20260423T162122
CREATED:20250716T210628Z
LAST-MODIFIED:20250716T210704Z
UID:10731-1753182000-1753185600@www.myvalleyvillage.com
SUMMARY:City Services Committee Meeting
DESCRIPTION:Join us for our next NCVV City Services Committee Meeting Tuesday\, July 22\, 11am online. \nParticipate online: Join the meeting at: https://us02web.zoom.us/j/89384599499\nMeeting ID: 893 8459 9499\nParticipate by phone: (888) 475-4499 then enter Webinar ID: 89384599499 and press # \n \n 
URL:https://www.myvalleyvillage.com/event/city-service-committee-meeting/
CATEGORIES:cityservices,meetings
END:VEVENT
BEGIN:VEVENT
DTSTART;TZID=America/Los_Angeles:20250625T190000
DTEND;TZID=America/Los_Angeles:20250625T210000
DTSTAMP:20260423T162122
CREATED:20241119T173734Z
LAST-MODIFIED:20251202T173547Z
UID:10258-1750878000-1750885200@www.myvalleyvillage.com
SUMMARY:Board Meeting
DESCRIPTION:Join our next regularly scheduled Board meeting on Wednesday\, June 25\, 7pm. The meeting will be virtual. \nParticipate online: join the meeting at https://us02web.zoom.us/j/86492085294\nParticipate by phone: (888) 475-4499 then enter Webinar ID: 864 9208 5294 and press # \nMeeting Documents: \n\nNCVV AGENDA JUNE 2025 MEETING OF THE BOARD\nNCVV MER May 2025 (1)
URL:https://www.myvalleyvillage.com/event/board-meeting-2025-06-25/
CATEGORIES:board,meetings
END:VEVENT
BEGIN:VEVENT
DTSTART;TZID=America/Los_Angeles:20250621T123000
DTEND;TZID=America/Los_Angeles:20250621T133000
DTSTAMP:20260423T162122
CREATED:20250620T173053Z
LAST-MODIFIED:20250620T173053Z
UID:10666-1750509000-1750512600@www.myvalleyvillage.com
SUMMARY:Special Meeting
DESCRIPTION:The NCVV will hold a special meeting online Saturday\, June 21\, 12:30pm. \nhttps://us02web.zoom.us/j/89427078343\nParticipate by phone: (888) 475-4499 then enter Webinar ID: 894 2707 8343 and press #
URL:https://www.myvalleyvillage.com/event/special-meeting-15/
CATEGORIES:board,meetings
END:VEVENT
BEGIN:VEVENT
DTSTART;TZID=America/Los_Angeles:20250617T140000
DTEND;TZID=America/Los_Angeles:20250617T150000
DTSTAMP:20260423T162122
CREATED:20250613T221101Z
LAST-MODIFIED:20250613T221101Z
UID:10655-1750168800-1750172400@www.myvalleyvillage.com
SUMMARY:Events and Outreach Committee Meeting
DESCRIPTION:
URL:https://www.myvalleyvillage.com/event/events-and-outreach-committee-meeting-2/
CATEGORIES:Events and Outreach,meetings
END:VEVENT
BEGIN:VEVENT
DTSTART;TZID=America/Los_Angeles:20250611T191500
DTEND;TZID=America/Los_Angeles:20250611T210000
DTSTAMP:20260423T162122
CREATED:20250606T195917Z
LAST-MODIFIED:20250606T195917Z
UID:10634-1749669300-1749675600@www.myvalleyvillage.com
SUMMARY:Planning and Land Use Committee Meeting
DESCRIPTION:The NCVV Planning and Land Use Committee will meet June 11\, 7:15pm online. \nOn our agenda: \n\nAlcohol at Chevron\nClosed stores at Whitsett & Magnolia\n\nJoin the meeting at https://us02web.zoom.us/j/82620257242\nParticipate by phone: (833) 548 0282 then enter Meeting ID: 826 2025 7242 and press # \n 
URL:https://www.myvalleyvillage.com/event/planning-and-land-use-committee-meeting-32/
CATEGORIES:meetings,Planning and Land Use
END:VEVENT
END:VCALENDAR