BEGIN:VCALENDAR
VERSION:2.0
PRODID:-//Neighborhood Council Valley Village - ECPv6.15.20//NONSGML v1.0//EN
CALSCALE:GREGORIAN
METHOD:PUBLISH
X-WR-CALNAME:Neighborhood Council Valley Village
X-ORIGINAL-URL:https://www.myvalleyvillage.com
X-WR-CALDESC:Events for Neighborhood Council Valley Village
REFRESH-INTERVAL;VALUE=DURATION:PT1H
X-Robots-Tag:noindex
X-PUBLISHED-TTL:PT1H
BEGIN:VTIMEZONE
TZID:America/Los_Angeles
BEGIN:DAYLIGHT
TZOFFSETFROM:-0800
TZOFFSETTO:-0700
TZNAME:PDT
DTSTART:20250309T100000
END:DAYLIGHT
BEGIN:STANDARD
TZOFFSETFROM:-0700
TZOFFSETTO:-0800
TZNAME:PST
DTSTART:20251102T090000
END:STANDARD
BEGIN:DAYLIGHT
TZOFFSETFROM:-0800
TZOFFSETTO:-0700
TZNAME:PDT
DTSTART:20260308T100000
END:DAYLIGHT
BEGIN:STANDARD
TZOFFSETFROM:-0700
TZOFFSETTO:-0800
TZNAME:PST
DTSTART:20261101T090000
END:STANDARD
BEGIN:DAYLIGHT
TZOFFSETFROM:-0800
TZOFFSETTO:-0700
TZNAME:PDT
DTSTART:20270314T100000
END:DAYLIGHT
BEGIN:STANDARD
TZOFFSETFROM:-0700
TZOFFSETTO:-0800
TZNAME:PST
DTSTART:20271107T090000
END:STANDARD
END:VTIMEZONE
BEGIN:VEVENT
DTSTART;TZID=America/Los_Angeles:20260223T080000
DTEND;TZID=America/Los_Angeles:20260223T170000
DTSTAMP:20260423T132942
CREATED:20260223T231515Z
LAST-MODIFIED:20260223T231515Z
UID:11259-1771833600-1771866000@www.myvalleyvillage.com
SUMMARY:Special City Services Meeting
DESCRIPTION:Join us for the Special City Services Meeting on Tuesday\, February 24\, 10am online. \nParticipate online: Join the meeting at: https://us02web.zoom.us/j/89384599499\nMeeting ID: 893 8459 9499\nParticipate by phone: (888) 475-4499 then enter Webinar ID: 89384599499 and press # to Join \n \n 
URL:https://www.myvalleyvillage.com/event/special-city-services-meeting/
CATEGORIES:cityservices,meetings
END:VEVENT
END:VCALENDAR