BEGIN:VCALENDAR
VERSION:2.0
PRODID:-//Neighborhood Council Valley Village - ECPv6.15.20//NONSGML v1.0//EN
CALSCALE:GREGORIAN
METHOD:PUBLISH
X-WR-CALNAME:Neighborhood Council Valley Village
X-ORIGINAL-URL:https://www.myvalleyvillage.com
X-WR-CALDESC:Events for Neighborhood Council Valley Village
REFRESH-INTERVAL;VALUE=DURATION:PT1H
X-Robots-Tag:noindex
X-PUBLISHED-TTL:PT1H
BEGIN:VTIMEZONE
TZID:America/Los_Angeles
BEGIN:DAYLIGHT
TZOFFSETFROM:-0800
TZOFFSETTO:-0700
TZNAME:PDT
DTSTART:20230312T100000
END:DAYLIGHT
BEGIN:STANDARD
TZOFFSETFROM:-0700
TZOFFSETTO:-0800
TZNAME:PST
DTSTART:20231105T090000
END:STANDARD
BEGIN:DAYLIGHT
TZOFFSETFROM:-0800
TZOFFSETTO:-0700
TZNAME:PDT
DTSTART:20240310T100000
END:DAYLIGHT
BEGIN:STANDARD
TZOFFSETFROM:-0700
TZOFFSETTO:-0800
TZNAME:PST
DTSTART:20241103T090000
END:STANDARD
BEGIN:DAYLIGHT
TZOFFSETFROM:-0800
TZOFFSETTO:-0700
TZNAME:PDT
DTSTART:20250309T100000
END:DAYLIGHT
BEGIN:STANDARD
TZOFFSETFROM:-0700
TZOFFSETTO:-0800
TZNAME:PST
DTSTART:20251102T090000
END:STANDARD
END:VTIMEZONE
BEGIN:VEVENT
DTSTART;TZID=America/Los_Angeles:20240626T190000
DTEND;TZID=America/Los_Angeles:20240626T210000
DTSTAMP:20260424T002135
CREATED:20231120T215028Z
LAST-MODIFIED:20240624T234401Z
UID:9701-1719428400-1719435600@www.myvalleyvillage.com
SUMMARY:Board Meeting
DESCRIPTION:Join us for the next Neighborhood Council Valley Village on Wednesday\, June 26\, 7pm on Zoom. \nParticipate online: join the meeting at https://us02web.zoom.us/j/86492085294\nParticipate by phone: (888) 475-4499 then enter Webinar ID: 864 9208 5294 and press # \n 
URL:https://www.myvalleyvillage.com/event/board-meeting-8-2024-06-26/
LOCATION:Faith Presbyterian Church\, 5000 Colfax\, Valley Village
CATEGORIES:board,meetings
GEO:34.1616807;-118.3874832
X-APPLE-STRUCTURED-LOCATION;VALUE=URI;X-ADDRESS=Faith Presbyterian Church 5000 Colfax Valley Village;X-APPLE-RADIUS=500;X-TITLE=5000 Colfax:geo:-118.3874832,34.1616807
END:VEVENT
BEGIN:VEVENT
DTSTART;TZID=America/Los_Angeles:20240522T200000
DTEND;TZID=America/Los_Angeles:20240522T210000
DTSTAMP:20260424T002135
CREATED:20240604T001952Z
LAST-MODIFIED:20240604T001952Z
UID:9929-1716408000-1716411600@www.myvalleyvillage.com
SUMMARY:Special Meeting
DESCRIPTION:We will hold a special meeting right after our regular meeting to reapprove a Neighborhood Purpose Grant\, so it will be paid to the correct group: \nThe $600 NPG to Colfax Charter School for support of the Colfax World Fair needs to be paid to the non-profit group that runs the event. That group is PACE\, Parents Association Colfax Elementary. \nZoom Meeting – Participate Online or by Telephone\nParticipate online: join the meeting at https://us02web.zoom.us/j/86492085294\nParticipate by phone: (888) 475-4499 then enter Webinar ID: 864 9208 5294 and press # \nMeeting documents: \n\nColfax NPG\nNCVV TR April 2024\nNCVV MER April 2024
URL:https://www.myvalleyvillage.com/event/special-meeting-13/
CATEGORIES:board,meetings
END:VEVENT
BEGIN:VEVENT
DTSTART;TZID=America/Los_Angeles:20240522T190000
DTEND;TZID=America/Los_Angeles:20240522T210000
DTSTAMP:20260424T002135
CREATED:20231120T215028Z
LAST-MODIFIED:20240515T193259Z
UID:9700-1716404400-1716411600@www.myvalleyvillage.com
SUMMARY:Board Meeting
DESCRIPTION:Join us for the next meeting of Neighborhood Council Valley Village on Wednesday\, May 22\, 7pm. \nMeeting documents: \n\nNCVV AGENDA MAY 2024 MEETING OF THE BOARD\nFY2025 NCVV NCFP AdminPacket-AnnualBudget\n\nThe meeting will be a Zoom Meeting – Participate Online or by Telephone\nParticipate online: join the meeting at https://us02web.zoom.us/j/86492085294\nParticipate by phone: (888) 475-4499 then enter Webinar ID: 864 9208 5294 and press #
URL:https://www.myvalleyvillage.com/event/board-meeting-2024-05-22/
LOCATION:Faith Presbyterian Church\, 5000 Colfax\, Valley Village
CATEGORIES:board,meetings
GEO:34.1616807;-118.3874832
X-APPLE-STRUCTURED-LOCATION;VALUE=URI;X-ADDRESS=Faith Presbyterian Church 5000 Colfax Valley Village;X-APPLE-RADIUS=500;X-TITLE=5000 Colfax:geo:-118.3874832,34.1616807
END:VEVENT
BEGIN:VEVENT
DTSTART;TZID=America/Los_Angeles:20240516T193000
DTEND;TZID=America/Los_Angeles:20240516T200000
DTSTAMP:20260424T002135
CREATED:20240515T204532Z
LAST-MODIFIED:20240515T204532Z
UID:9913-1715887800-1715889600@www.myvalleyvillage.com
SUMMARY:Special Meeting
DESCRIPTION:We will hold a special meeting May 16\, 7:30pm on Zoom to approve funding for the pancake breakfast. \nZoom Meeting – Participate Online or by Telephone\nParticipate online: join the meeting at https://us02web.zoom.us/j/88510710710\nParticipate by phone: (888) 475-4499 then enter Webinar ID: 885 1071 0710 and press # \n 
URL:https://www.myvalleyvillage.com/event/special-meeting-12/
CATEGORIES:board,meetings
END:VEVENT
BEGIN:VEVENT
DTSTART;TZID=America/Los_Angeles:20240424T190000
DTEND;TZID=America/Los_Angeles:20240424T210000
DTSTAMP:20260424T002135
CREATED:20231120T215028Z
LAST-MODIFIED:20240424T204401Z
UID:9699-1713985200-1713992400@www.myvalleyvillage.com
SUMMARY:Board Meeting
DESCRIPTION:Join us for the next Neighborhood Council Valley Village Meeting on Wednesday\, April 24\, 7pm on Zoom. \nOn our agenda: \n\nSpecial election of vacant Renter seat\nGrants for our Colfax Charter and Burbank Blvd Elementary\n\nZoom Meeting – Participate Online or by Telephone\nParticipate online: join the meeting at https://us02web.zoom.us/j/86492085294\nParticipate by phone: (888) 475-4499 then enter Webinar ID: 864 9208 5294 and press # \nMeeting Documents: \n\nNCVV AGENDA APRIL 2024 MEETING OF THE BOARD\nNCVV TR March 2024\nNCVVBrdMtg3-24\nNCVV MER March 2024
URL:https://www.myvalleyvillage.com/event/board-meeting-2024-04-24/
CATEGORIES:board,meetings
END:VEVENT
BEGIN:VEVENT
DTSTART;TZID=America/Los_Angeles:20240327T190000
DTEND;TZID=America/Los_Angeles:20240327T210000
DTSTAMP:20260424T002135
CREATED:20231120T215028Z
LAST-MODIFIED:20240327T183537Z
UID:9483-1711566000-1711573200@www.myvalleyvillage.com
SUMMARY:Board Meeting
DESCRIPTION:Join us for the next Neighborhood Council Valley Village Meeting on Wednesday\, March 27\, 7pm online. \nSpecial Guest Speaker Todd Gilman\, Los Angeles City Community Legal Corps \nZoom Meeting – Participate Online or by Telephone\nParticipate online: join the meeting at https://us02web.zoom.us/j/86492085294\nParticipate by phone: (888) 475-4499 then enter Webinar ID: 864 9208 5294 and press # \nMeeting documents: \n\nNCVV AGENDA MARCH 2024 MEETING OF THE BOARD\nNCVV MER February 2024\nNCVV TR February 2024\n15-0389-S2_misc_01-19-24\nNCVVenrichlaNPG BURBANK
URL:https://www.myvalleyvillage.com/event/board-meeting-8/
CATEGORIES:board,meetings
END:VEVENT
BEGIN:VEVENT
DTSTART;TZID=America/Los_Angeles:20240228T190000
DTEND;TZID=America/Los_Angeles:20240228T210000
DTSTAMP:20260424T002135
CREATED:20240130T213729Z
LAST-MODIFIED:20240228T185758Z
UID:9635-1709146800-1709154000@www.myvalleyvillage.com
SUMMARY:Board Meeting
DESCRIPTION:Join us for the next Neighborhood Council Valley Village meeting February 28\, 7pm. \nOn our agenda: \n\nProposed modifications to Mayor Bass’ ED1 Ordinance\n\nJoin online: https://us02web.zoom.us/j/86492085294 \nJoin by phone: (888) 475-4499 then enter Webinar ID: 864 9208 5294 and press # \nMeeting documents: \n\nNCVV AGENDA FEBRUARY 2024 MEETING OF THE BOARD\nNCVV MER January 2024\nNCVV Minutes 1-24
URL:https://www.myvalleyvillage.com/event/board-meeting-9/
CATEGORIES:board,meetings
END:VEVENT
BEGIN:VEVENT
DTSTART;TZID=America/Los_Angeles:20240124T190000
DTEND;TZID=America/Los_Angeles:20240124T210000
DTSTAMP:20260424T002135
CREATED:20231120T214627Z
LAST-MODIFIED:20240120T012827Z
UID:9471-1706122800-1706130000@www.myvalleyvillage.com
SUMMARY:Board Meeting
DESCRIPTION:Join us for the next Neighborhood Council Valley Village Meeting on January 24\, 7pm on Zoom: https://us02web.zoom.us/j/86492085294\nParticipate by phone: (888) 475-4499 then enter Webinar ID: 864 9208 5294 and press # \nJanuary 24\, 2024 Board Agenda
URL:https://www.myvalleyvillage.com/event/board-meeting-7/
LOCATION:Faith Presbyterian Church\, 5000 Colfax\, Valley Village
CATEGORIES:board,meetings
GEO:34.1616807;-118.3874832
X-APPLE-STRUCTURED-LOCATION;VALUE=URI;X-ADDRESS=Faith Presbyterian Church 5000 Colfax Valley Village;X-APPLE-RADIUS=500;X-TITLE=5000 Colfax:geo:-118.3874832,34.1616807
END:VEVENT
BEGIN:VEVENT
DTSTART;TZID=America/Los_Angeles:20240118T190000
DTEND;TZID=America/Los_Angeles:20240118T193000
DTSTAMP:20260424T002135
CREATED:20240118T003735Z
LAST-MODIFIED:20240212T204050Z
UID:9610-1705604400-1705606200@www.myvalleyvillage.com
SUMMARY:Special Meeting
DESCRIPTION:January 18\, 2024 Special Agenda
URL:https://www.myvalleyvillage.com/event/special-meeting-11/
CATEGORIES:board,meetings
END:VEVENT
END:VCALENDAR