BEGIN:VCALENDAR
VERSION:2.0
PRODID:-//Neighborhood Council Valley Village - ECPv6.15.20//NONSGML v1.0//EN
CALSCALE:GREGORIAN
METHOD:PUBLISH
X-ORIGINAL-URL:https://www.myvalleyvillage.com
X-WR-CALDESC:Events for Neighborhood Council Valley Village
REFRESH-INTERVAL;VALUE=DURATION:PT1H
X-Robots-Tag:noindex
X-PUBLISHED-TTL:PT1H
BEGIN:VTIMEZONE
TZID:America/Los_Angeles
BEGIN:DAYLIGHT
TZOFFSETFROM:-0800
TZOFFSETTO:-0700
TZNAME:PDT
DTSTART:20250309T100000
END:DAYLIGHT
BEGIN:STANDARD
TZOFFSETFROM:-0700
TZOFFSETTO:-0800
TZNAME:PST
DTSTART:20251102T090000
END:STANDARD
BEGIN:DAYLIGHT
TZOFFSETFROM:-0800
TZOFFSETTO:-0700
TZNAME:PDT
DTSTART:20260308T100000
END:DAYLIGHT
BEGIN:STANDARD
TZOFFSETFROM:-0700
TZOFFSETTO:-0800
TZNAME:PST
DTSTART:20261101T090000
END:STANDARD
BEGIN:DAYLIGHT
TZOFFSETFROM:-0800
TZOFFSETTO:-0700
TZNAME:PDT
DTSTART:20270314T100000
END:DAYLIGHT
BEGIN:STANDARD
TZOFFSETFROM:-0700
TZOFFSETTO:-0800
TZNAME:PST
DTSTART:20271107T090000
END:STANDARD
END:VTIMEZONE
BEGIN:VEVENT
DTSTART;TZID=America/Los_Angeles:20260217T190000
DTEND;TZID=America/Los_Angeles:20260217T210000
DTSTAMP:20260423T115629
CREATED:20260212T224347Z
LAST-MODIFIED:20260219T182211Z
UID:11223-1771354800-1771362000@www.myvalleyvillage.com
SUMMARY:Special Meeting
DESCRIPTION:The NCVV Board of Directors will hold a special meeting February 17\, 7pm online. \nZoom Meeting – Participate Online or by Telephone\nParticipate online: Join the meeting at https://us02web.zoom.us/j/83900652651\nParticipate by phone: (833) 548 0282 then enter Meeting ID: 83900652651 and press #
URL:https://www.myvalleyvillage.com/event/special-meeting-18/
CATEGORIES:board,meetings
END:VEVENT
BEGIN:VEVENT
DTSTART;TZID=America/Los_Angeles:20260225T190000
DTEND;TZID=America/Los_Angeles:20260225T210000
DTSTAMP:20260423T115629
CREATED:20251120T234819Z
LAST-MODIFIED:20260224T181229Z
UID:11036-1772046000-1772053200@www.myvalleyvillage.com
SUMMARY:Board Meeting
DESCRIPTION:Join us for our next Neighborhood Council Valley Village Meeting Wednesday\, February 25\, 7pm. \nWe will have a guest speaker: \nMargo Rees\, Chair of the LA County League of Women Voters\, will discuss the impact of Proposition G (expansion of the LA County Board of Supervisors) and upcoming deadlines mandated by the LA County Charter Reform. \nZoom Meeting – Participate Online or by Telephone\nParticipate online: Join the meeting at https://us02web.zoom.us/j/86492085294\nParticipate by phone: (833) 548 0282 then enter Meeting ID: 86492085294 and press #
URL:https://www.myvalleyvillage.com/event/board-meeting-15-2026-02-25/
CATEGORIES:board,meetings
END:VEVENT
END:VCALENDAR