BEGIN:VCALENDAR
VERSION:2.0
PRODID:-//Neighborhood Council Valley Village - ECPv6.15.20//NONSGML v1.0//EN
CALSCALE:GREGORIAN
METHOD:PUBLISH
X-WR-CALNAME:Neighborhood Council Valley Village
X-ORIGINAL-URL:https://www.myvalleyvillage.com
X-WR-CALDESC:Events for Neighborhood Council Valley Village
REFRESH-INTERVAL;VALUE=DURATION:PT1H
X-Robots-Tag:noindex
X-PUBLISHED-TTL:PT1H
BEGIN:VTIMEZONE
TZID:America/Los_Angeles
BEGIN:DAYLIGHT
TZOFFSETFROM:-0800
TZOFFSETTO:-0700
TZNAME:PDT
DTSTART:20240310T100000
END:DAYLIGHT
BEGIN:STANDARD
TZOFFSETFROM:-0700
TZOFFSETTO:-0800
TZNAME:PST
DTSTART:20241103T090000
END:STANDARD
BEGIN:DAYLIGHT
TZOFFSETFROM:-0800
TZOFFSETTO:-0700
TZNAME:PDT
DTSTART:20250309T100000
END:DAYLIGHT
BEGIN:STANDARD
TZOFFSETFROM:-0700
TZOFFSETTO:-0800
TZNAME:PST
DTSTART:20251102T090000
END:STANDARD
BEGIN:DAYLIGHT
TZOFFSETFROM:-0800
TZOFFSETTO:-0700
TZNAME:PDT
DTSTART:20260308T100000
END:DAYLIGHT
BEGIN:STANDARD
TZOFFSETFROM:-0700
TZOFFSETTO:-0800
TZNAME:PST
DTSTART:20261101T090000
END:STANDARD
END:VTIMEZONE
BEGIN:VEVENT
DTSTART;TZID=America/Los_Angeles:20251217T190000
DTEND;TZID=America/Los_Angeles:20251217T210000
DTSTAMP:20260423T143158
CREATED:20241119T173837Z
LAST-MODIFIED:20251213T022805Z
UID:10266-1765998000-1766005200@www.myvalleyvillage.com
SUMMARY:Board Meeting-Cancelled
DESCRIPTION:
URL:https://www.myvalleyvillage.com/event/board-meeting-14/
CATEGORIES:board,meetings
END:VEVENT
BEGIN:VEVENT
DTSTART;TZID=America/Los_Angeles:20251222T190000
DTEND;TZID=America/Los_Angeles:20251222T193000
DTSTAMP:20260423T143158
CREATED:20251222T190320Z
LAST-MODIFIED:20251222T190320Z
UID:11103-1766430000-1766431800@www.myvalleyvillage.com
SUMMARY:Special Meeting
DESCRIPTION:Neighborhood Council Valley Village will hold a special meeting on Monday\, December 22\, 7pm online. \nZoom Meeting – Participate Online or by Telephone\nParticipate online: join the meeting at https://us02web.zoom.us/j/86492085294 \n 
URL:https://www.myvalleyvillage.com/event/special-meeting-16/
CATEGORIES:board,meetings
END:VEVENT
END:VCALENDAR