BEGIN:VCALENDAR
VERSION:2.0
PRODID:-//Neighborhood Council Valley Village - ECPv6.15.20//NONSGML v1.0//EN
CALSCALE:GREGORIAN
METHOD:PUBLISH
X-WR-CALNAME:Neighborhood Council Valley Village
X-ORIGINAL-URL:https://www.myvalleyvillage.com
X-WR-CALDESC:Events for Neighborhood Council Valley Village
REFRESH-INTERVAL;VALUE=DURATION:PT1H
X-Robots-Tag:noindex
X-PUBLISHED-TTL:PT1H
BEGIN:VTIMEZONE
TZID:America/Los_Angeles
BEGIN:DAYLIGHT
TZOFFSETFROM:-0800
TZOFFSETTO:-0700
TZNAME:PDT
DTSTART:20250309T100000
END:DAYLIGHT
BEGIN:STANDARD
TZOFFSETFROM:-0700
TZOFFSETTO:-0800
TZNAME:PST
DTSTART:20251102T090000
END:STANDARD
BEGIN:DAYLIGHT
TZOFFSETFROM:-0800
TZOFFSETTO:-0700
TZNAME:PDT
DTSTART:20260308T100000
END:DAYLIGHT
BEGIN:STANDARD
TZOFFSETFROM:-0700
TZOFFSETTO:-0800
TZNAME:PST
DTSTART:20261101T090000
END:STANDARD
BEGIN:DAYLIGHT
TZOFFSETFROM:-0800
TZOFFSETTO:-0700
TZNAME:PDT
DTSTART:20270314T100000
END:DAYLIGHT
BEGIN:STANDARD
TZOFFSETFROM:-0700
TZOFFSETTO:-0800
TZNAME:PST
DTSTART:20271107T090000
END:STANDARD
END:VTIMEZONE
BEGIN:VEVENT
DTSTART;TZID=America/Los_Angeles:20260310T110000
DTEND;TZID=America/Los_Angeles:20260310T120000
DTSTAMP:20260423T100416
CREATED:20260306T004124Z
LAST-MODIFIED:20260306T004124Z
UID:11300-1773140400-1773144000@www.myvalleyvillage.com
SUMMARY:City Services Committee Meeting
DESCRIPTION:Join us March 10\, 11am for the next City Services Committee Meeting online. \nZoom Meeting – Participate Online or by Telephone\nParticipate online: Join the meeting at: https://us02web.zoom.us/j/89384599499\nMeeting ID: 893 8459 9499\nParticipate by phone: (888) 475-4499 then enter Webinar ID: 89384599499 and press # to Join \n 
URL:https://www.myvalleyvillage.com/event/city-services-committee-meeting-41/
CATEGORIES:cityservices,meetings
END:VEVENT
BEGIN:VEVENT
DTSTART;TZID=America/Los_Angeles:20260311T191500
DTEND;TZID=America/Los_Angeles:20260311T203000
DTSTAMP:20260423T100416
CREATED:20260310T225440Z
LAST-MODIFIED:20260310T225440Z
UID:11314-1773256500-1773261000@www.myvalleyvillage.com
SUMMARY:Special Planning and Land Use Committee Meeting
DESCRIPTION:Join us for a special meeting of the Neighborhood Council Valley Village Planning and Land Use Committee on March 11 at 7:15 PM Online. \nZoom Meeting – Participate Online or by Telephone\nParticipate online: Join the meeting at https://us02web.zoom.us/j/82620257242\nParticipate by phone: (833) 548 0282 then enter Meeting ID: 82620257242 and press # \n 
URL:https://www.myvalleyvillage.com/event/special-planning-and-land-use-committee-meeting-3/
CATEGORIES:meetings,Planning and Land Use
END:VEVENT
BEGIN:VEVENT
DTSTART;TZID=America/Los_Angeles:20260325T190000
DTEND;TZID=America/Los_Angeles:20260325T210000
DTSTAMP:20260423T100416
CREATED:20251120T234819Z
LAST-MODIFIED:20260325T165726Z
UID:11037-1774465200-1774472400@www.myvalleyvillage.com
SUMMARY:Board Meeting
DESCRIPTION:Join your NCVV Board and Student Committee Wednesday night for the monthly meeting.  Topics that will be discussed include NCVV’s first Valley Village Business Roundtable that will be led by City Councilman Adrin Nazarian\, and the establishment of a Board ad hoc subcommittee to increase the effectiveness of NCVV’s social media presence. \nThe meeting is March 25\, 7:00 PM Online. \nZoom Meeting – Participate Online or by Telephone\nParticipate online: Join the meeting at https://us02web.zoom.us/j/86492085294\nParticipate by phone: (833) 548 0282 then enter Meeting ID: 86492085294 and press # \n \n 
URL:https://www.myvalleyvillage.com/event/board-meeting-15-2026-03-25/
CATEGORIES:board,meetings
END:VEVENT
END:VCALENDAR