BEGIN:VCALENDAR
VERSION:2.0
PRODID:-//Neighborhood Council Valley Village - ECPv6.15.20//NONSGML v1.0//EN
CALSCALE:GREGORIAN
METHOD:PUBLISH
X-ORIGINAL-URL:https://www.myvalleyvillage.com
X-WR-CALDESC:Events for Neighborhood Council Valley Village
REFRESH-INTERVAL;VALUE=DURATION:PT1H
X-Robots-Tag:noindex
X-PUBLISHED-TTL:PT1H
BEGIN:VTIMEZONE
TZID:America/Los_Angeles
BEGIN:DAYLIGHT
TZOFFSETFROM:-0800
TZOFFSETTO:-0700
TZNAME:PDT
DTSTART:20240310T100000
END:DAYLIGHT
BEGIN:STANDARD
TZOFFSETFROM:-0700
TZOFFSETTO:-0800
TZNAME:PST
DTSTART:20241103T090000
END:STANDARD
BEGIN:DAYLIGHT
TZOFFSETFROM:-0800
TZOFFSETTO:-0700
TZNAME:PDT
DTSTART:20250309T100000
END:DAYLIGHT
BEGIN:STANDARD
TZOFFSETFROM:-0700
TZOFFSETTO:-0800
TZNAME:PST
DTSTART:20251102T090000
END:STANDARD
BEGIN:DAYLIGHT
TZOFFSETFROM:-0800
TZOFFSETTO:-0700
TZNAME:PDT
DTSTART:20260308T100000
END:DAYLIGHT
BEGIN:STANDARD
TZOFFSETFROM:-0700
TZOFFSETTO:-0800
TZNAME:PST
DTSTART:20261101T090000
END:STANDARD
END:VTIMEZONE
BEGIN:VEVENT
DTSTART;TZID=America/Los_Angeles:20251008T191500
DTEND;TZID=America/Los_Angeles:20251008T210000
DTSTAMP:20260423T175720
CREATED:20250714T222742Z
LAST-MODIFIED:20251007T172150Z
UID:10725-1759950900-1759957200@www.myvalleyvillage.com
SUMMARY:Special Planning and Land Use Committee Meeting
DESCRIPTION:The NCVV Planning & Land Use Committee will hold a special meeting October 8\, 7:15pm online. \nZoom Meeting – Participate Online or by Telephone\nParticipate online: Join the meeting at https://us02web.zoom.us/j/82620257242\nParticipate by phone: (833) 548 0282 then enter Meeting ID: 82620257242 and press #
URL:https://www.myvalleyvillage.com/event/planning-and-land-use-committee-meeting-33-2025-10-08/
CATEGORIES:meetings,Planning and Land Use
END:VEVENT
BEGIN:VEVENT
DTSTART;TZID=America/Los_Angeles:20251014T140000
DTEND;TZID=America/Los_Angeles:20251014T150000
DTSTAMP:20260423T175720
CREATED:20250714T222601Z
LAST-MODIFIED:20251011T000305Z
UID:10719-1760450400-1760454000@www.myvalleyvillage.com
SUMMARY:City Services Committee
DESCRIPTION:Join us for the NCVV City Services Committee Meeting on Tuesday\, October 14\, 2pm online. \nZoom Meeting – Participate Online or by Telephone\nParticipate online: Join the meeting at: https://us02web.zoom.us/j/89384599499\nMeeting ID: 893 8459 9499\nParticipate by phone: (888) 475-4499 then enter Webinar ID: 89384599499 and press # \n 
URL:https://www.myvalleyvillage.com/event/city-services-committee-12-2025-10-14/
CATEGORIES:cityservices,meetings
END:VEVENT
BEGIN:VEVENT
DTSTART;TZID=America/Los_Angeles:20251022T190000
DTEND;TZID=America/Los_Angeles:20251022T210000
DTSTAMP:20260423T175720
CREATED:20241119T173734Z
LAST-MODIFIED:20251209T215549Z
UID:10262-1761159600-1761166800@www.myvalleyvillage.com
SUMMARY:Board Meeting
DESCRIPTION:Join us for the next NCVV Meeting on Wednesday\, October 22\, 7pm. We will meet In Person at the Faith Presbyterian Church Social Hall\, 5000 Colfax Ave.
URL:https://www.myvalleyvillage.com/event/board-meeting-12-2025-10-22/
CATEGORIES:board,meetings
END:VEVENT
END:VCALENDAR