BEGIN:VCALENDAR
VERSION:2.0
PRODID:-//Neighborhood Council Valley Village - ECPv6.15.20//NONSGML v1.0//EN
CALSCALE:GREGORIAN
METHOD:PUBLISH
X-ORIGINAL-URL:https://www.myvalleyvillage.com
X-WR-CALDESC:Events for Neighborhood Council Valley Village
REFRESH-INTERVAL;VALUE=DURATION:PT1H
X-Robots-Tag:noindex
X-PUBLISHED-TTL:PT1H
BEGIN:VTIMEZONE
TZID:America/Los_Angeles
BEGIN:DAYLIGHT
TZOFFSETFROM:-0800
TZOFFSETTO:-0700
TZNAME:PDT
DTSTART:20240310T100000
END:DAYLIGHT
BEGIN:STANDARD
TZOFFSETFROM:-0700
TZOFFSETTO:-0800
TZNAME:PST
DTSTART:20241103T090000
END:STANDARD
BEGIN:DAYLIGHT
TZOFFSETFROM:-0800
TZOFFSETTO:-0700
TZNAME:PDT
DTSTART:20250309T100000
END:DAYLIGHT
BEGIN:STANDARD
TZOFFSETFROM:-0700
TZOFFSETTO:-0800
TZNAME:PST
DTSTART:20251102T090000
END:STANDARD
BEGIN:DAYLIGHT
TZOFFSETFROM:-0800
TZOFFSETTO:-0700
TZNAME:PDT
DTSTART:20260308T100000
END:DAYLIGHT
BEGIN:STANDARD
TZOFFSETFROM:-0700
TZOFFSETTO:-0800
TZNAME:PST
DTSTART:20261101T090000
END:STANDARD
END:VTIMEZONE
BEGIN:VEVENT
DTSTART;TZID=America/Los_Angeles:20250611T191500
DTEND;TZID=America/Los_Angeles:20250611T210000
DTSTAMP:20260424T003249
CREATED:20250606T195917Z
LAST-MODIFIED:20250606T195917Z
UID:10634-1749669300-1749675600@www.myvalleyvillage.com
SUMMARY:Planning and Land Use Committee Meeting
DESCRIPTION:The NCVV Planning and Land Use Committee will meet June 11\, 7:15pm online. \nOn our agenda: \n\nAlcohol at Chevron\nClosed stores at Whitsett & Magnolia\n\nJoin the meeting at https://us02web.zoom.us/j/82620257242\nParticipate by phone: (833) 548 0282 then enter Meeting ID: 826 2025 7242 and press # \n 
URL:https://www.myvalleyvillage.com/event/planning-and-land-use-committee-meeting-32/
CATEGORIES:meetings,Planning and Land Use
END:VEVENT
BEGIN:VEVENT
DTSTART;TZID=America/Los_Angeles:20250617T140000
DTEND;TZID=America/Los_Angeles:20250617T150000
DTSTAMP:20260424T003249
CREATED:20250613T221101Z
LAST-MODIFIED:20250613T221101Z
UID:10655-1750168800-1750172400@www.myvalleyvillage.com
SUMMARY:Events and Outreach Committee Meeting
DESCRIPTION:
URL:https://www.myvalleyvillage.com/event/events-and-outreach-committee-meeting-2/
CATEGORIES:Events and Outreach,meetings
END:VEVENT
BEGIN:VEVENT
DTSTART;TZID=America/Los_Angeles:20250621T123000
DTEND;TZID=America/Los_Angeles:20250621T133000
DTSTAMP:20260424T003249
CREATED:20250620T173053Z
LAST-MODIFIED:20250620T173053Z
UID:10666-1750509000-1750512600@www.myvalleyvillage.com
SUMMARY:Special Meeting
DESCRIPTION:The NCVV will hold a special meeting online Saturday\, June 21\, 12:30pm. \nhttps://us02web.zoom.us/j/89427078343\nParticipate by phone: (888) 475-4499 then enter Webinar ID: 894 2707 8343 and press #
URL:https://www.myvalleyvillage.com/event/special-meeting-15/
CATEGORIES:board,meetings
END:VEVENT
BEGIN:VEVENT
DTSTART;TZID=America/Los_Angeles:20250625T190000
DTEND;TZID=America/Los_Angeles:20250625T210000
DTSTAMP:20260424T003249
CREATED:20241119T173734Z
LAST-MODIFIED:20251202T173547Z
UID:10258-1750878000-1750885200@www.myvalleyvillage.com
SUMMARY:Board Meeting
DESCRIPTION:Join our next regularly scheduled Board meeting on Wednesday\, June 25\, 7pm. The meeting will be virtual. \nParticipate online: join the meeting at https://us02web.zoom.us/j/86492085294\nParticipate by phone: (888) 475-4499 then enter Webinar ID: 864 9208 5294 and press # \nMeeting Documents: \n\nNCVV AGENDA JUNE 2025 MEETING OF THE BOARD\nNCVV MER May 2025 (1)
URL:https://www.myvalleyvillage.com/event/board-meeting-2025-06-25/
CATEGORIES:board,meetings
END:VEVENT
END:VCALENDAR